BEGIN:VCALENDAR
VERSION:2.0
PRODID:-//Intranet - CGCAFE - ECPv3.12.6//NONSGML v1.0//EN
CALSCALE:GREGORIAN
METHOD:PUBLISH
X-WR-CALNAME:Intranet - CGCAFE
X-ORIGINAL-URL:https://conecta.cloud
X-WR-CALDESC:Events for Intranet - CGCAFE
BEGIN:VEVENT
DTSTART;VALUE=DATE:20170519
DTEND;VALUE=DATE:20170520
DTSTAMP:20260423T085200Z
CREATED:20170131T090728Z
LAST-MODIFIED:20170131T090728Z
UID:4071-1495152000-1495324799@conecta.cloud
SUMMARY:II Curso de Oficial Habilitado de Administrador de Fincas Colegiado
DESCRIPTION:
URL:https://conecta.cloud/evento/ii-curso-de-oficial-habilitado-de-administrador-de-fincas-colegiado-3/
CATEGORIES:Publico
END:VEVENT
END:VCALENDAR