BEGIN:VCALENDAR
VERSION:2.0
PRODID:-//Intranet - CGCAFE - ECPv3.12.6//NONSGML v1.0//EN
CALSCALE:GREGORIAN
METHOD:PUBLISH
X-WR-CALNAME:Intranet - CGCAFE
X-ORIGINAL-URL:https://conecta.cloud
X-WR-CALDESC:Events for Intranet - CGCAFE
BEGIN:VEVENT
DTSTART;VALUE=DATE:20170512
DTEND;VALUE=DATE:20170512
DTSTAMP:20260425T223034Z
CREATED:20170131T090640Z
LAST-MODIFIED:20170131T090640Z
UID:4070-1494547200-1494633599@conecta.cloud
SUMMARY:II Curso de Oficial Habilitado de Administrador de Fincas Colegiado
DESCRIPTION:
URL:https://conecta.cloud/evento/ii-curso-de-oficial-habilitado-de-administrador-de-fincas-colegiado-2/
CATEGORIES:Publico
END:VEVENT
BEGIN:VEVENT
DTSTART;VALUE=DATE:20170512
DTEND;VALUE=DATE:20170512
DTSTAMP:20260425T223034Z
CREATED:20170131T090843Z
LAST-MODIFIED:20170131T090843Z
UID:4072-1494547200-1494633599@conecta.cloud
SUMMARY:XII Curso Práctico para Administradores de Fincas Colegiado
DESCRIPTION:
URL:https://conecta.cloud/evento/xii-curso-practico-para-administradores-de-fincas-colegiado/
CATEGORIES:Publico
END:VEVENT
BEGIN:VEVENT
DTSTART:20170512T193000Z
DTEND:20170514T180000Z
DTSTAMP:20260425T223034Z
CREATED:20170405T105015Z
LAST-MODIFIED:20170405T105015Z
UID:4270-1494617400-1494784800@conecta.cloud
SUMMARY:Etapa León camino de Santiago
DESCRIPTION:León y su camino os espera del 12 al 14 de mayo\nEstimados compañeros:\n\nEl camino de Santiago llega a la provincia de León y desde el Colegio de Administradores de Fincas os hemos preparado dos etapas.\n\nDeciros que le hemos puesto muchas ganas e ilusión y deseamos ser unos buenos anfitriones.\n\nOs esperamos.\nJesús R. Luque Borge\nPresidente del Colegio de León\nPodéis descargar toda la información aquí
URL:https://conecta.cloud/evento/etapa-leon-camino-de-santiago/
CATEGORIES:Publico
ORGANIZER;CN="Colegio%20de%20Administradores%20de%20Fincas%20de%20Le%C3%B3n":MAILTO:aaffleon@aaffleon.onored.com
END:VEVENT
END:VCALENDAR